BEGIN:VCALENDAR
VERSION:2.0
PRODID:-//Mary Island Fishing Club - ECPv5.3.2.1//NONSGML v1.0//EN
CALSCALE:GREGORIAN
METHOD:PUBLISH
X-WR-CALNAME:Mary Island Fishing Club
X-ORIGINAL-URL:https://maryislandfishingclub.com.au
X-WR-CALDESC:Events for Mary Island Fishing Club
BEGIN:VTIMEZONE
TZID:Asia/Shanghai
BEGIN:STANDARD
TZOFFSETFROM:+0800
TZOFFSETTO:+0800
TZNAME:CST
DTSTART:20210101T000000
END:STANDARD
END:VTIMEZONE
BEGIN:VEVENT
DTSTART;TZID=Asia/Shanghai:20210814T150000
DTEND;TZID=Asia/Shanghai:20210814T190000
DTSTAMP:20210225T072634
CREATED:20200201T141123Z
LAST-MODIFIED:20210215T144649Z
UID:457-1628953200-1628967600@maryislandfishingclub.com.au
SUMMARY:Mud Crab Races
DESCRIPTION:Come and join us for mud crab racing and tasting!Choose a crab to race\, get involved in the fun & then stayand enjoy a BBQ dinner with a FREE taste of mud crabincluded! – Licensed Bar Available \n\n\n\n\n\n\n\nFlyer
URL:https://maryislandfishingclub.com.au/event/mud-crab-races/
LOCATION:Mary Island Fishing Club\, 12 Elder Street\, Derby\, 6728\, Australia
ATTACH;FMTTYPE=image/png:https://maryislandfishingclub.com.au/wp-content/uploads/2020/01/MudCrab-Races-Logo-2.png
END:VEVENT
END:VCALENDAR